BEGIN:VCALENDAR
VERSION:2.0
PRODID:-//Philippe Charreyron, coach - ECPv6.15.20//NONSGML v1.0//EN
CALSCALE:GREGORIAN
METHOD:PUBLISH
X-WR-CALNAME:Philippe Charreyron, coach
X-ORIGINAL-URL:https://ph-charreyron.fr
X-WR-CALDESC:Évènements pour Philippe Charreyron, coach
REFRESH-INTERVAL;VALUE=DURATION:PT1H
X-Robots-Tag:noindex
X-PUBLISHED-TTL:PT1H
BEGIN:VTIMEZONE
TZID:Europe/Paris
BEGIN:DAYLIGHT
TZOFFSETFROM:+0100
TZOFFSETTO:+0200
TZNAME:CEST
DTSTART:20250330T010000
END:DAYLIGHT
BEGIN:STANDARD
TZOFFSETFROM:+0200
TZOFFSETTO:+0100
TZNAME:CET
DTSTART:20251026T010000
END:STANDARD
BEGIN:DAYLIGHT
TZOFFSETFROM:+0100
TZOFFSETTO:+0200
TZNAME:CEST
DTSTART:20260329T010000
END:DAYLIGHT
BEGIN:STANDARD
TZOFFSETFROM:+0200
TZOFFSETTO:+0100
TZNAME:CET
DTSTART:20261025T010000
END:STANDARD
BEGIN:DAYLIGHT
TZOFFSETFROM:+0100
TZOFFSETTO:+0200
TZNAME:CEST
DTSTART:20270328T010000
END:DAYLIGHT
BEGIN:STANDARD
TZOFFSETFROM:+0200
TZOFFSETTO:+0100
TZNAME:CET
DTSTART:20271031T010000
END:STANDARD
END:VTIMEZONE
BEGIN:VEVENT
DTSTART;TZID=Europe/Paris:20260313T190000
DTEND;TZID=Europe/Paris:20260313T210000
DTSTAMP:20260424T100344
CREATED:20251210T182839Z
LAST-MODIFIED:20251210T183050Z
UID:214874-1773428400-1773435600@ph-charreyron.fr
SUMMARY:"J'ai testé pour vous... le voyage intérieur"\, seul en scène
DESCRIPTION:J’ai testé pour vous… le voyage intérieur » est un Objet Scénique Non Identifié\, entre conférence\, témoignage et spectacle. \nS’il fallait le rattacher à un genre\, ce serait la conférence gesticulée\, mais il n’en respecte pas tous les codes -et son propos n’est pas politique ou sociétal -ou indirectement. \nJe vous raconte mon voyage à la rencontre de mon enfant intérieur. Je me mets en scène et vous parle de moi\, de mes expériences\, de ce que j’ai compris ou entrevu sur moi et sur les autres. \nC’est parfois drôle\, parfois émouvant et toujours passionnant. Parce qu’en parlant de moi et en me mettant à nu\, je parle de chacun de vous. En sortant\, vous ne vous regarderez plus et vous ne regarderez plus les autres exactement comme avant. \nRéservation par mail à contact@ph-charreyron.fr ou par texto au 0603717594 . Merci ! \n			\n			\n				\n				\n				\n				\n			\n				\n				\n				\n				\n				\n				\n				\n				\n				\n				\n				Présentation « j’ai testé pour vous… »
URL:https://ph-charreyron.fr/event/214874/
LOCATION:Forum 104\, 104 rue de Vaugirard\, Paris\, 75006\, France
ORGANIZER;CN="Philippe Charreyron":MAILTO:contact@ph-charreyron.fr
END:VEVENT
BEGIN:VEVENT
DTSTART;TZID=Europe/Paris:20260327T190000
DTEND;TZID=Europe/Paris:20260327T220000
DTSTAMP:20260424T100344
CREATED:20260203T075359Z
LAST-MODIFIED:20260203T075402Z
UID:214900-1774638000-1774648800@ph-charreyron.fr
SUMMARY:"J'ai testé pour vous... le voyage intérieur" à Saumur
DESCRIPTION:Le 27 mars 2026 chez Pascale et Didier Barrault\n104 rue du verger Soreau\, St Lambert des levées\, 49400 Saumur\n \nPour celleux qui le souhaitent Apéro partagé à19h en auberge espagnole\nSpectacle à 20h15\n			\n			\n				\n				\n				\n				\n			\n				\n				\n				\n				\n				\n				\n				\n				\n				\n				\n				« J’ai testé pour vous… le voyage intérieur » est un Objet Scénique Non Identifié\, entre conférence\, témoignage et spectacle. \nS’il fallait le rattacher à un genre\, ce serait la conférence gesticulée\, mais il n’en respecte pas tous les codes -et son propos n’est pas politique ou sociétal -ou indirectement. \nJe vous raconte mon voyage à la rencontre de mon enfant intérieur. Je me mets en scène et vous parle de moi\, de mes expériences\, de ce que j’ai compris ou entrevu sur moi et sur les autres. \nC’est parfois drôle\, parfois émouvant et toujours passionnant. Parce qu’en parlant de moi et en me mettant à nu\, je parle de chacun de vous. En sortant\, vous ne vous regarderez plus et vous ne regarderez plus les autres exactement comme avant. \nRéservation au 06 41 16 15 10. Merci ! \n			\n			\n				\n				\n				\n				\n			\n				\n				\n				\n				\n				\n				\n				\n				\n				\n				\n				Présentation « j’ai testé pour vous… »
URL:https://ph-charreyron.fr/event/jai-teste-pour-vous-le-voyage-interieur-a-saumur/
LOCATION:Saumur\, 104 rue du verger Soreau\, St Lambert des levées.\, Saumur\, 49400\, France
ORGANIZER;CN="Philippe Charreyron":MAILTO:contact@ph-charreyron.fr
END:VEVENT
BEGIN:VEVENT
DTSTART;TZID=Europe/Paris:20260328T133000
DTEND;TZID=Europe/Paris:20260328T180000
DTSTAMP:20260424T100344
CREATED:20260202T075404Z
LAST-MODIFIED:20260202T075407Z
UID:214886-1774704600-1774720800@ph-charreyron.fr
SUMMARY:Jeu du tao à Sainte Gemmes sur Loire
DESCRIPTION:Vous avez un objectif que vous aimeriez voir se concrétiser ? Un projet qui vous tient à cœur ?   \nVenez trouver les clés et ressources pour avancer grâce au Jeu du Tao ! \n \nPour en savoir plus sur le jeu : https://ph-charreyron.fr/le-jeu-du-tao/ \nDeux formules en fonction du nombre de joueurs : \n– à 3 ou 4 joueurs\, un après-midi de jeu\, accueil à partir de 13h30 pour commencer à 14h\, fin de partie à 18h \n– à 5 joueurs\, une grande journée prendre le temps d’une grande pause\, une parenthèse ouverte pour prendre soin de soi et de ses projets. Accueil à partir de 9h30 pour commencer à 10h\, fin de la partie vers 18h\, déjeuner partagé en auberge espagnole\, chacun amène un plat. \nRémunération en participation consciente\, chacun donne à la fin de la partie ce qu’il pense être juste en fonction de ce qu’il a reçu et de ses ressources. Une grille indicative est fournie pour ceux pour qui cette pratique est nouvelle. \nAu plaisir de vous voir bientao autour de la table !
URL:https://ph-charreyron.fr/event/jeu-du-tao-a-sainte-gemmes-sur-loire/
LOCATION:Sainte Gemmes sur Loire\, Sainte Gemmes sur Loire\, 49130\, France
ORGANIZER;CN="Philippe Charreyron":MAILTO:contact@ph-charreyron.fr
END:VEVENT
END:VCALENDAR