BEGIN:VCALENDAR
VERSION:2.0
PRODID:-//Philippe Charreyron, coach - ECPv6.15.20//NONSGML v1.0//EN
CALSCALE:GREGORIAN
METHOD:PUBLISH
X-WR-CALNAME:Philippe Charreyron, coach
X-ORIGINAL-URL:https://ph-charreyron.fr
X-WR-CALDESC:Évènements pour Philippe Charreyron, coach
REFRESH-INTERVAL;VALUE=DURATION:PT1H
X-Robots-Tag:noindex
X-PUBLISHED-TTL:PT1H
BEGIN:VTIMEZONE
TZID:Europe/Paris
BEGIN:DAYLIGHT
TZOFFSETFROM:+0100
TZOFFSETTO:+0200
TZNAME:CEST
DTSTART:20240331T010000
END:DAYLIGHT
BEGIN:STANDARD
TZOFFSETFROM:+0200
TZOFFSETTO:+0100
TZNAME:CET
DTSTART:20241027T010000
END:STANDARD
BEGIN:DAYLIGHT
TZOFFSETFROM:+0100
TZOFFSETTO:+0200
TZNAME:CEST
DTSTART:20250330T010000
END:DAYLIGHT
BEGIN:STANDARD
TZOFFSETFROM:+0200
TZOFFSETTO:+0100
TZNAME:CET
DTSTART:20251026T010000
END:STANDARD
BEGIN:DAYLIGHT
TZOFFSETFROM:+0100
TZOFFSETTO:+0200
TZNAME:CEST
DTSTART:20260329T010000
END:DAYLIGHT
BEGIN:STANDARD
TZOFFSETFROM:+0200
TZOFFSETTO:+0100
TZNAME:CET
DTSTART:20261025T010000
END:STANDARD
END:VTIMEZONE
BEGIN:VEVENT
DTSTART;TZID=Europe/Paris:20250823T120000
DTEND;TZID=Europe/Paris:20250830T160000
DTSTAMP:20260424T172814
CREATED:20250514T142050Z
LAST-MODIFIED:20250514T142053Z
UID:214850-1755950400-1756569600@ph-charreyron.fr
SUMMARY:Coaching en randonnée avec le Jeu du Tao
DESCRIPTION:Faites l’expérience unique du coaching en randonnée !\n			\n			\n				\n				\n				\n				\n			\n				\n				\n				\n				\n				\n				\n				\n				\n				\n				\n				– Une semaine de randonnée\n– En petit groupe\n– Sur les chemins de Compostelle\n– Chaque jour\, du coaching individuel en marchant\n– Chaque soir\, un temps d’intelligence collective avec le jeu du tao.\n			\n			\n				\n				\n				\n				\n				\n				\n				\n				\n				\n				\n			\n			\n				\n				\n				\n				\n			\n				\n				\n			\n				\n				\n				\n				\n				\n				\n				\n				\n				\n				\n				\n				\n				\n				\n				\n				\n				\n				Quel programme ?\n			\n				\n				\n				\n				\n				Notre aventure sera à la fois individuelle et collective. \nNous commencerons notre voyage par une partie de jeu du tao\, ce formidable outil d’intelligence collective et de connaissance de soi. Cette partie nous permettra de faire connaissance et de constituer notre groupe pour faire de ce voyage une aventure collective. \nChaque jour\, j’accompagnerai chacun de vous individuellement. Vous alternerez ainsi un temps avec moi et\, à votre convenance\, des temps de marche en silence ou d’échanges avec vos compagnons. \nChaque soir\, nous aurons un temps de partage autour des cartes du jeu du tao. Les questionnements et les avancées de chacun et les feedbacks des autres enrichiront la réflexion de tous dans un échange gagnant-gagnant. \n			\n			\n				\n				\n				\n				\n			\n				\n				\n			\n				\n				\n				\n				\n				\n				\n				\n				\n				\n				\n				\n				\n				\n				\n				\n				\n				\n				Modalités pratiques\n			\n			\n				\n				\n				\n				\n			\n				\n				\n				\n				\n				\n				\n				\n				\n				\n				\n				Groupe de 3 ou 4 participants. \nPour voyager léger\, nous dormirons dans des haltes pèlerins (parfois en chambre d’hôte). Nous n’aurons à porter que quelques affaires personnelles et le pique-nique du jour. Nous dînerons en table d’hôte ou au restaurant. \n			\n				Pour télécharger la plaquette\, c'est ICI
URL:https://ph-charreyron.fr/event/coaching-en-randonnee-avec-le-jeu-du-tao/
LOCATION:Poitou\, De Poitiers à Saint Jean d'Angely\, France
ORGANIZER;CN="Philippe Charreyron":MAILTO:contact@ph-charreyron.fr
END:VEVENT
END:VCALENDAR