BEGIN:VCALENDAR
VERSION:2.0
PRODID:-//Philippe Charreyron, coach - ECPv6.15.20//NONSGML v1.0//EN
CALSCALE:GREGORIAN
METHOD:PUBLISH
X-WR-CALNAME:Philippe Charreyron, coach
X-ORIGINAL-URL:https://ph-charreyron.fr
X-WR-CALDESC:Évènements pour Philippe Charreyron, coach
REFRESH-INTERVAL;VALUE=DURATION:PT1H
X-Robots-Tag:noindex
X-PUBLISHED-TTL:PT1H
BEGIN:VTIMEZONE
TZID:Europe/Paris
BEGIN:DAYLIGHT
TZOFFSETFROM:+0100
TZOFFSETTO:+0200
TZNAME:CEST
DTSTART:20230326T010000
END:DAYLIGHT
BEGIN:STANDARD
TZOFFSETFROM:+0200
TZOFFSETTO:+0100
TZNAME:CET
DTSTART:20231029T010000
END:STANDARD
BEGIN:DAYLIGHT
TZOFFSETFROM:+0100
TZOFFSETTO:+0200
TZNAME:CEST
DTSTART:20240331T010000
END:DAYLIGHT
BEGIN:STANDARD
TZOFFSETFROM:+0200
TZOFFSETTO:+0100
TZNAME:CET
DTSTART:20241027T010000
END:STANDARD
BEGIN:DAYLIGHT
TZOFFSETFROM:+0100
TZOFFSETTO:+0200
TZNAME:CEST
DTSTART:20250330T010000
END:DAYLIGHT
BEGIN:STANDARD
TZOFFSETFROM:+0200
TZOFFSETTO:+0100
TZNAME:CET
DTSTART:20251026T010000
END:STANDARD
END:VTIMEZONE
BEGIN:VEVENT
DTSTART;TZID=Europe/Paris:20240517T200000
DTEND;TZID=Europe/Paris:20240517T220000
DTSTAMP:20260425T161909
CREATED:20240326T131950Z
LAST-MODIFIED:20240326T131951Z
UID:214567-1715976000-1715983200@ph-charreyron.fr
SUMMARY:Conférence spectacle "J'ai testé pour vous..."
DESCRIPTION:J’ai testé pour vous… le voyage intérieur » est un Objet Scénique Non Identifié\, entre conférence\, témoignage et spectacle. \nS’il fallait le rattacher à un genre\, ce serait la conférence gesticulée\, mais il n’en respecte pas tous les codes -et son propos n’est pas politique ou sociétal -ou indirectement. \nJe vous raconte mon voyage à la rencontre de mon enfant intérieur. Je me mets en scène et vous parle de moi\, de mes expériences\, de ce que j’ai compris ou entrevu sur moi et sur les autres. \nC’est parfois drôle\, parfois émouvant et toujours passionnant. Parce qu’en parlant de moi et en me mettant à nu\, je parle de chacun de vous. En sortant\, vous ne vous regarderez plus et vous ne regarderez plus les autres exactement comme avant. \n			\n			\n				\n				\n				\n				\n				\n				\n				\n				\n				\n				\n			\n			\n				\n				\n				\n				\n			\n				\n				\n				\n				\n				\n				\n				\n				\n				\n				\n				Présentation « j’ai testé pour vous… »
URL:https://ph-charreyron.fr/event/conference-spectacle-jai-teste-pour-vous/
LOCATION:Home Eveil et Yoga\, 1 impasse des petits pères\, Angers\, 49000\, France
ORGANIZER;CN="Philippe Charreyron":MAILTO:contact@ph-charreyron.fr
END:VEVENT
END:VCALENDAR