BEGIN:VCALENDAR
VERSION:2.0
PRODID:-//Philippe Charreyron, coach - ECPv6.15.20//NONSGML v1.0//EN
CALSCALE:GREGORIAN
METHOD:PUBLISH
X-ORIGINAL-URL:https://ph-charreyron.fr
X-WR-CALDESC:Évènements pour Philippe Charreyron, coach
REFRESH-INTERVAL;VALUE=DURATION:PT1H
X-Robots-Tag:noindex
X-PUBLISHED-TTL:PT1H
BEGIN:VTIMEZONE
TZID:Europe/Paris
BEGIN:DAYLIGHT
TZOFFSETFROM:+0100
TZOFFSETTO:+0200
TZNAME:CEST
DTSTART:20220327T010000
END:DAYLIGHT
BEGIN:STANDARD
TZOFFSETFROM:+0200
TZOFFSETTO:+0100
TZNAME:CET
DTSTART:20221030T010000
END:STANDARD
BEGIN:DAYLIGHT
TZOFFSETFROM:+0100
TZOFFSETTO:+0200
TZNAME:CEST
DTSTART:20230326T010000
END:DAYLIGHT
BEGIN:STANDARD
TZOFFSETFROM:+0200
TZOFFSETTO:+0100
TZNAME:CET
DTSTART:20231029T010000
END:STANDARD
BEGIN:DAYLIGHT
TZOFFSETFROM:+0100
TZOFFSETTO:+0200
TZNAME:CEST
DTSTART:20240331T010000
END:DAYLIGHT
BEGIN:STANDARD
TZOFFSETFROM:+0200
TZOFFSETTO:+0100
TZNAME:CET
DTSTART:20241027T010000
END:STANDARD
END:VTIMEZONE
BEGIN:VEVENT
DTSTART;TZID=Europe/Paris:20231119T093000
DTEND;TZID=Europe/Paris:20231119T183000
DTSTAMP:20260426T012457
CREATED:20220321T083854Z
LAST-MODIFIED:20231023T054005Z
UID:213936-1700386200-1700418600@ph-charreyron.fr
SUMMARY:Jeu du tao à Saint Saturnin sur Loire
DESCRIPTION:Le jeu du tao est beaucoup plus qu’un jeu. Avec l’aide des autres joueurs\, vous allez y voir plus clair sur ce qui vous empêche d’avancer comme vous le souhaitez\, et vous allez trouver des clés pour avancer. Vous allez expérimenter une nouvelle forme de coopération\, basée sur une écoute\, une empathie et une bienveillance totales. \nUne partie rassemble 3 à 5 joueurs et un animateur (exception avec nous à Saint Saturnin\, nous coanimons en général à deux). Et autour de la table\, nous savons déjà qu’il n’y aura à la fin de la partie que des gagnants ! \nLa rémunération est en participation consciente\, vous donnez à la fin de  la journée ce que vous pensez être juste en fonction de ce que vous avez reçu et de vos ressources. Il s’agit de donner une valeur plutôt qu’un prix\, à ce que nous payons. Comme cela peut être très déroutant\, nous vous proposons une grille indicative en fonction des revenus. \n 
URL:https://ph-charreyron.fr/event/jeu-du-tao-a-saint-saturnin-sur-loire/
LOCATION:Sainte Gemmes sur Loire\, Sainte Gemmes sur Loire\, 49130\, France
ORGANIZER;CN="Philippe Charreyron":MAILTO:contact@ph-charreyron.fr
END:VEVENT
END:VCALENDAR