BEGIN:VCALENDAR
VERSION:2.0
PRODID:-//Philippe Charreyron, coach - ECPv6.15.20//NONSGML v1.0//EN
CALSCALE:GREGORIAN
METHOD:PUBLISH
X-WR-CALNAME:Philippe Charreyron, coach
X-ORIGINAL-URL:https://ph-charreyron.fr
X-WR-CALDESC:Évènements pour Philippe Charreyron, coach
REFRESH-INTERVAL;VALUE=DURATION:PT1H
X-Robots-Tag:noindex
X-PUBLISHED-TTL:PT1H
BEGIN:VTIMEZONE
TZID:Europe/Paris
BEGIN:DAYLIGHT
TZOFFSETFROM:+0100
TZOFFSETTO:+0200
TZNAME:CEST
DTSTART:20230326T010000
END:DAYLIGHT
BEGIN:STANDARD
TZOFFSETFROM:+0200
TZOFFSETTO:+0100
TZNAME:CET
DTSTART:20231029T010000
END:STANDARD
BEGIN:DAYLIGHT
TZOFFSETFROM:+0100
TZOFFSETTO:+0200
TZNAME:CEST
DTSTART:20240331T010000
END:DAYLIGHT
BEGIN:STANDARD
TZOFFSETFROM:+0200
TZOFFSETTO:+0100
TZNAME:CET
DTSTART:20241027T010000
END:STANDARD
BEGIN:DAYLIGHT
TZOFFSETFROM:+0100
TZOFFSETTO:+0200
TZNAME:CEST
DTSTART:20250330T010000
END:DAYLIGHT
BEGIN:STANDARD
TZOFFSETFROM:+0200
TZOFFSETTO:+0100
TZNAME:CET
DTSTART:20251026T010000
END:STANDARD
END:VTIMEZONE
BEGIN:VEVENT
DTSTART;VALUE=DATE:20240322
DTEND;VALUE=DATE:20240325
DTSTAMP:20260426T015459
CREATED:20220321T091600Z
LAST-MODIFIED:20231114T145458Z
UID:213940-1711065600-1711324799@ph-charreyron.fr
SUMMARY:Formation d'animateur - animatrice du jeu du Tao
DESCRIPTION:Vous avez découvert la puissance du jeu du tao pour créer de l’écoute\, de l’empathie\, de la coopération ? Devenez animateur du jeu ! \nLa formation s’adresse aussi bien aux professionnels de l’accompagnement (coachs\, thérapeutes\, consultants\, formateurs) désireux de l’intégrer dans leur pratique professionnelle qu’aux particuliers qui souhaitent animer des parties dans leur cercle de relations (parents\, amis\, associations…). \nLa formation se déroule en résidentiel dans un lieu ressourçant au coeur de l’Anjou. \nAu delà de la formation\, ce stage est une parenthèse qui s’ouvre\, deux jours et demi pour vous\, pour vous faire du bien\, deux jours et demi d’écoute\, de bienveillance\, de coopération\, deux jours et demi aussi pour avancer dans vos projets. \nC’est un beau cadeau que vous pouvez vous faire\, et dont bénéficierons après toutes celles et tous ceux qui joueront avec vous ! \nPlus d’informations sur le programme sur le document à télécharger ici : 0634 formation tao-animateur \, renseignements et inscriptions : 06 03 71 75 94 \n 
URL:https://ph-charreyron.fr/event/formation-danimateur-animatrice-du-jeu-du-tao/
LOCATION:Sainte Gemmes sur Loire\, Sainte Gemmes sur Loire\, 49130\, France
CATEGORIES:Formation de tao-animateurs
ORGANIZER;CN="Philippe Charreyron":MAILTO:contact@ph-charreyron.fr
END:VEVENT
END:VCALENDAR