BEGIN:VCALENDAR
VERSION:2.0
PRODID:-//Philippe Charreyron, coach - ECPv6.15.20//NONSGML v1.0//EN
CALSCALE:GREGORIAN
METHOD:PUBLISH
X-ORIGINAL-URL:https://ph-charreyron.fr
X-WR-CALDESC:Évènements pour Philippe Charreyron, coach
REFRESH-INTERVAL;VALUE=DURATION:PT1H
X-Robots-Tag:noindex
X-PUBLISHED-TTL:PT1H
BEGIN:VTIMEZONE
TZID:Europe/Paris
BEGIN:DAYLIGHT
TZOFFSETFROM:+0100
TZOFFSETTO:+0200
TZNAME:CEST
DTSTART:20240331T010000
END:DAYLIGHT
BEGIN:STANDARD
TZOFFSETFROM:+0200
TZOFFSETTO:+0100
TZNAME:CET
DTSTART:20241027T010000
END:STANDARD
BEGIN:DAYLIGHT
TZOFFSETFROM:+0100
TZOFFSETTO:+0200
TZNAME:CEST
DTSTART:20250330T010000
END:DAYLIGHT
BEGIN:STANDARD
TZOFFSETFROM:+0200
TZOFFSETTO:+0100
TZNAME:CET
DTSTART:20251026T010000
END:STANDARD
BEGIN:DAYLIGHT
TZOFFSETFROM:+0100
TZOFFSETTO:+0200
TZNAME:CEST
DTSTART:20260329T010000
END:DAYLIGHT
BEGIN:STANDARD
TZOFFSETFROM:+0200
TZOFFSETTO:+0100
TZNAME:CET
DTSTART:20261025T010000
END:STANDARD
END:VTIMEZONE
BEGIN:VEVENT
DTSTART;TZID=Europe/Paris:20250606T183000
DTEND;TZID=Europe/Paris:20250606T203000
DTSTAMP:20260424T215346
CREATED:20250401T064143Z
LAST-MODIFIED:20250401T064151Z
UID:214807-1749234600-1749241800@ph-charreyron.fr
SUMMARY:Conférence désarticulée "J'ai testé pour vous... le voyage intérieur" à Angers
DESCRIPTION:J’ai testé pour vous… le voyage intérieur » est un Objet Scénique Non Identifié\, entre conférence\, témoignage et spectacle. \nS’il fallait le rattacher à un genre\, ce serait la conférence gesticulée\, mais il n’en respecte pas tous les codes -et son propos n’est pas politique ou sociétal -ou indirectement. \nJe vous raconte mon voyage à la rencontre de mon enfant intérieur. Je me mets en scène et vous parle de moi\, de mes expériences\, de ce que j’ai compris ou entrevu sur moi et sur les autres. \nC’est parfois drôle\, parfois émouvant et toujours passionnant. Parce qu’en parlant de moi et en me mettant à nu\, je parle de chacun de vous. En sortant\, vous ne vous regarderez plus et vous ne regarderez plus les autres exactement comme avant. \nParce que ce sont les spectateurs qui en parlent le mieux… \n« Tu m’as scotché. Je n’ai pas vu le temps passer et j’ai beaucoup appris. Tu m’as inspiré sur bien des registres. La qualité pédagogique de ton propos\, l’humilité de ta posture\, l’humour\, ta simplicité\, ta qualité de présence\, et tout ce chemin personnel parcouru et dont tu témoignes de la constante émergence à ta conscience… Et le tout sur plus d’une heure et demi seul en scène…! Respect ! » \n			\n			\n				\n				\n				\n				\n			\n				\n				\n				\n				\n				\n				\n				\n				\n				\n				\n				Pour en savoir plus sur le spectacle\, c’est ici : Présentation « j’ai testé pour vous… » \n			\n				\n				\n				\n				\n				Réservation par mail à contact@ph-charreyron.fr ou par texto au 0603717594 . Merci !
URL:https://ph-charreyron.fr/event/conference-desarticulee-jai-teste-pour-vous-le-voyage-interieur-a-angers/
LOCATION:Le jardin d’Eden\, 3 rue St Lazare\, Angers\, 49000\, France
ORGANIZER;CN="Philippe Charreyron":MAILTO:contact@ph-charreyron.fr
END:VEVENT
END:VCALENDAR