BEGIN:VCALENDAR
VERSION:2.0
PRODID:-//Philippe Charreyron, coach - ECPv6.15.20//NONSGML v1.0//EN
CALSCALE:GREGORIAN
METHOD:PUBLISH
X-WR-CALNAME:Philippe Charreyron, coach
X-ORIGINAL-URL:https://ph-charreyron.fr
X-WR-CALDESC:Évènements pour Philippe Charreyron, coach
REFRESH-INTERVAL;VALUE=DURATION:PT1H
X-Robots-Tag:noindex
X-PUBLISHED-TTL:PT1H
BEGIN:VTIMEZONE
TZID:Europe/Paris
BEGIN:DAYLIGHT
TZOFFSETFROM:+0100
TZOFFSETTO:+0200
TZNAME:CEST
DTSTART:20230326T010000
END:DAYLIGHT
BEGIN:STANDARD
TZOFFSETFROM:+0200
TZOFFSETTO:+0100
TZNAME:CET
DTSTART:20231029T010000
END:STANDARD
BEGIN:DAYLIGHT
TZOFFSETFROM:+0100
TZOFFSETTO:+0200
TZNAME:CEST
DTSTART:20240331T010000
END:DAYLIGHT
BEGIN:STANDARD
TZOFFSETFROM:+0200
TZOFFSETTO:+0100
TZNAME:CET
DTSTART:20241027T010000
END:STANDARD
BEGIN:DAYLIGHT
TZOFFSETFROM:+0100
TZOFFSETTO:+0200
TZNAME:CEST
DTSTART:20250330T010000
END:DAYLIGHT
BEGIN:STANDARD
TZOFFSETFROM:+0200
TZOFFSETTO:+0100
TZNAME:CET
DTSTART:20251026T010000
END:STANDARD
END:VTIMEZONE
BEGIN:VEVENT
DTSTART;TZID=Europe/Paris:20240606T180000
DTEND;TZID=Europe/Paris:20240606T200000
DTSTAMP:20260425T162011
CREATED:20240226T140354Z
LAST-MODIFIED:20240514T100154Z
UID:214539-1717696800-1717704000@ph-charreyron.fr
SUMMARY:Conférence désarticulée "J'ai testé pour vous... le développement personnel"
DESCRIPTION:Conférence désarticulée\n			\n				\n				\n				\n				\n				J’ai testé pour vous… le développement personnel\n			\n				\n				\n				\n				\n				objet scénique non identifié\, entre témoignage\, conférence et théâtre\n			\n			\n				\n				\n				\n				\n			\n				\n				\n				\n				\n				\n				\n				\n				\n				\n				\n				\n			\n			\n				\n				\n				\n				\n				\n				\n				\n				\n				\n				S’il fallait le rattacher à un genre\, ce serait la conférence gesticulée\, mais il n’en respecte pas tous les codes -et son propos n’est pas politique ou sociétal -ou indirectement. \n Philippe nous raconte son voyage à la rencontre de son enfant intérieur. Il se met en scène et nous parle de lui\, de ses expériences\, de ce qu’il a compris ou entrevu sur lui et sur les autres. \n C’est parfois drôle\, parfois émouvant et toujours passionnant. Parce qu’en parlant de lui et en se mettant à nu\, Philippe parle de chacun de nous. En sortant\, nous ne nous regardons plus et nous ne regardons plus les autres exactement comme avant. \n			\n			\n				\n				\n				\n				\n			\n				\n				\n			\n				\n				\n				\n				\n				\n				\n				\n				\n				\n				\n				\n				\n				\n				Télécharger la plaquette de présentation
URL:https://ph-charreyron.fr/event/conference-desarticulee-jai-teste-pour-vous-le-developpement-personnel/
LOCATION:UCO Angers\, Rue Rabelais\, Angers\, 49000\, France
ORGANIZER;CN="Les UCoachs":MAILTO:https://www.linkedin.com/in/les-ucoachs-angers-nantes-474310145/
END:VEVENT
END:VCALENDAR