BEGIN:VCALENDAR
VERSION:2.0
PRODID:-//Philippe Charreyron, coach - ECPv6.15.20//NONSGML v1.0//EN
CALSCALE:GREGORIAN
METHOD:PUBLISH
X-WR-CALNAME:Philippe Charreyron, coach
X-ORIGINAL-URL:https://ph-charreyron.fr
X-WR-CALDESC:Évènements pour Philippe Charreyron, coach
REFRESH-INTERVAL;VALUE=DURATION:PT1H
X-Robots-Tag:noindex
X-PUBLISHED-TTL:PT1H
BEGIN:VTIMEZONE
TZID:Europe/Paris
BEGIN:DAYLIGHT
TZOFFSETFROM:+0100
TZOFFSETTO:+0200
TZNAME:CEST
DTSTART:20220327T010000
END:DAYLIGHT
BEGIN:STANDARD
TZOFFSETFROM:+0200
TZOFFSETTO:+0100
TZNAME:CET
DTSTART:20221030T010000
END:STANDARD
BEGIN:DAYLIGHT
TZOFFSETFROM:+0100
TZOFFSETTO:+0200
TZNAME:CEST
DTSTART:20230326T010000
END:DAYLIGHT
BEGIN:STANDARD
TZOFFSETFROM:+0200
TZOFFSETTO:+0100
TZNAME:CET
DTSTART:20231029T010000
END:STANDARD
BEGIN:DAYLIGHT
TZOFFSETFROM:+0100
TZOFFSETTO:+0200
TZNAME:CEST
DTSTART:20240331T010000
END:DAYLIGHT
BEGIN:STANDARD
TZOFFSETFROM:+0200
TZOFFSETTO:+0100
TZNAME:CET
DTSTART:20241027T010000
END:STANDARD
END:VTIMEZONE
BEGIN:VEVENT
DTSTART;TZID=Europe/Paris:20231214T140000
DTEND;TZID=Europe/Paris:20231214T183000
DTSTAMP:20260426T025431
CREATED:20231114T120753Z
LAST-MODIFIED:20231118T072437Z
UID:214516-1702562400-1702578600@ph-charreyron.fr
SUMMARY:Découverte jeu du tao
DESCRIPTION:Pour les amoureux du jeu du tao… et pour ceux qui ne le connaissent pas encore\, une version  grand public du jeu vient de sortir.\nC’est un magnifique coffret avec le plateau (le taoban)\, les cartes\, un livret d’accompagnement et les accessoires indispensables\, sablier\, dés et pierres. \nElle est commercialisée à Angers par la librairie Chrysalide www.librairiechrysalide.com\n			\n			\n				\n				\n				\n				\n			\n				\n				\n				\n				\n				\n				\n				\n				\n				\n				\n				\n			\n			\n				\n				\n				\n				\n				\n				\n				\n				\n				\n				\n			\n			\n				\n				\n				\n				\n			\n				\n				\n				\n				\n				\n				\n				\n				\n				\n				\n				Pour accompagner son lancement\, la librairie Chrysalide et moi-même vous proposons une semaine de découverte du jeu  : 4 après-midi pour jouer avec moi de 14h à 18h30 \n			\n				\n				\n				\n				\n				Vous avez un désir\, un projet que vous n’arrivez pas à concrétiser ? Venez découvrir la puissance du jeu\, de l’écoute et de la coopération avec les autres joueurs pour identifier les blocages et trouver les clés pour avancer !
URL:https://ph-charreyron.fr/event/decouverte-jeu-du-tao/
LOCATION:librairie Chrysalide à Angers
END:VEVENT
END:VCALENDAR